BEGIN:VCALENDAR
VERSION:2.0
PRODID:-//https://rrcatstaffclub.in///NONSGML kigkonsult.se iCalcreator 2.10.15//
METHOD:PUBLISH
BEGIN:VEVENT
UID:20260425T115308UTC-6850xOHNcN@https://rrcatstaffclub.in/
DTSTAMP:20260425T115308Z
DESCRIPTION:\n\nDear All\nRRCAT Staff Club is happy to announce&nbsp\; Base
 ball workshop for wards of RRCAT staff club members. The workshop is for k
 ids with age under 12 years. All interested are requested to enroll for th
 e same using following linkhttps://www.rrcatstaffclub.in/forms/sports/u-12
 -baseball-workshop\n&nbsp\;\nPlease see attached file for further details.
 \n\nwith regardsGurvinderjit SinghSecretary\, RRCAT Staff Club\n\n\n\n htt
 ps://rrcatstaffclub.in/calendar/event/432-u-12-baseball-workshop
DTSTART:20250122T103000Z
DTEND:20250125T143000Z
LOCATION:RRCAT Football ground\, Sector - 5 ()
SUMMARY:U-12 Baseball-Workshop
URL:https://rrcatstaffclub.in/calendar/event/432-u-12-baseball-workshop
END:VEVENT
BEGIN:VEVENT
UID:20260425T115308UTC-6852JVdNdK@https://rrcatstaffclub.in/
DTSTAMP:20260425T115308Z
DESCRIPTION:Dear AllRRCAT staff club is excited to announce Annual Tennis B
 all Open Cricket Tournament 2025 from 01.02.2025. Please see attached file
  for further details\n\n\nwith regardsGurvinderjit SinghSecretary\, RRCAT 
 Staff Club\n\n https://rrcatstaffclub.in/calendar/event/434-tennis-ball-cr
 icket-opentournament
DTSTART:20250125T033000Z
DTEND:20250215T033000Z
LOCATION:AECS School Playground (Unnamed Road\, RRCAT\, Indore\, Madhya Pra
 desh 452013\, India)
SUMMARY:Tennis Ball Cricket OpenTournament
URL:https://rrcatstaffclub.in/calendar/event/434-tennis-ball-cricket-opento
 urnament
END:VEVENT
END:VCALENDAR
