BEGIN:VCALENDAR
VERSION:2.0
PRODID:-//https://rrcatstaffclub.in///NONSGML kigkonsult.se iCalcreator 2.10.15//
METHOD:PUBLISH
BEGIN:VEVENT
UID:20260426T035210UTC-4554vUcRXR@https://rrcatstaffclub.in/
DTSTAMP:20260426T035210Z
DESCRIPTION:प्रिय साथियों\, नाट्य सर्कल\, आरआरकेट स्टाफ क्लब द्वारा साहित्य
 िक कार्यक्रमों की श्रृंखला मे मालवा अंचल के प्रतिष्ठित कवियों की भावपूर्ण 
 कविताओं के साथ एक शाम कवि गोष्ठी “रसरंग” का आयोजन किया जा रहा है।  दिनांक 
 : 21.04.2024 (रविवार) समय &nbsp\;: 18:00 - 20:00 hrs स्थान &nbsp\;: विक्रम
  साराभाई हाल\, सम्मेलन केंद्र\,आरआरकेट  आप सब सादर आमंत्रित हैं  कृपया अधि
 क जानकारी के लिए श्री प्रदीप कुमार मिश्र (संयोजक\,रसरंग)\,श्री प्रदीप कान्
 त (सह-संयोजक\,रसरंग ) या श्री ए.पी. सिंह (संयोजक\,नाट्य) से संपर्क करें  ध
 न्यवाद गुरविंदरजीत सिंह सचिव\, आरआरकेट स्टाफ कलब  ------------------------
 ---------------------------------  Dear All In a series of Hindi literary 
 programs\, Dramatic Circle of RRCAT Staff Club is happy to announce an eve
 ning event “Rasrang” Kavi Goshthi with soulful poems of eminent poets of M
 alwa region.  Date: 21.04.2024 (Sunday)  Time: 18:00-20:00 hrs  Venue: Vik
 ram Sarabhai Hall\, Convention Centre\, RRCAT  All are welcome  Please con
 tact Shri P. K. Mishra (Convener\, Rasrang)\,Shri Pradeep kant (Co-Convene
 r\, Rasrang) or Shri A. P. Singh (Convener\, Dramatic) for more details.\n
 \nwith regardsGurvinderjit Singh Secretary\, RRCAT Staff Club\n https://rr
 catstaffclub.in/calendar/event/393-kavi-gosthi-rasaranga
DTSTART:20240421T123000Z
DTEND:20240421T143000Z
LOCATION:RRCAT Convention Centre (RRCAT Covention Centre)
SUMMARY:कवि गोष्ठी “रसरंग”
URL:https://rrcatstaffclub.in/calendar/event/393-kavi-gosthi-rasaranga
END:VEVENT
END:VCALENDAR
