BEGIN:VCALENDAR
VERSION:2.0
PRODID:-//https://rrcatstaffclub.in///NONSGML kigkonsult.se iCalcreator 2.10.15//
METHOD:PUBLISH
BEGIN:VEVENT
UID:20260426T015847UTC-3510f8oTMs@https://rrcatstaffclub.in/
DTSTAMP:20260426T015847Z
DESCRIPTION:Dear All RRCAT Staff Club is happy to announce Summer-Camp 2024
  from 06th May 2024 to 07th June 2024 for the wards of RRCAT Staff Club me
 mbers. Interested participants are requested to fill the online form throu
 gh the link given below:\nhttps://rrcatstaffclub.in/summer-camp-2024/appli
 cation-form\nTHE ONLINE ENROLLMENT FOR SUMMER-CAMP &nbsp\;WILL START FROM 
 8:00PM OF 16TH APRIL\, 2024.\nThose who are not members are requested to b
 ecome member by filling the online membership form given below\nhttps://ww
 w.rrcatstaffclub.in/forms/staff-club/membership-form\n&nbsp\;\nImportant n
 otes:\n1. This year activities are divided into two categories i.e. &nbsp\
 ;(A) Sports activities and (B) Other activities. A maximum of 04 Sports ac
 tivities can be selected per child. Other activities i.e. Art &amp\; Craft
 \, Chess\, Drawing &amp\; Sketching\, Dance\, Music and Kinder Codefest ca
 n be selected over and above the limit set for sports activities.  2. Sepa
 rate online form is to be filled for each child.  3. Last date for filling
  online form is 22nd April\, 2024. 4. The number of participants in each a
 ctivity are limited and will be selected on first cum first serve\, based 
 on filling of on-line application form. In case of no-fee payment till 24t
 h April 2024\, the application will be rejected. The fee could be paid bet
 ween 15:00 to 20:00hrs to Supervisor\, RRCAT Staff Club at Indoor sports c
 lub from 18/04/2024 onward.\n5. A complimentary activity 'Book Club' is al
 so included this year. This activity will be included in enrollment form\,
  by default.\n6. Please see the attached file for activity details &amp\; 
 Instructions before filling the form.\n With regards Gurvinderjit Singh Se
 cretary\, RRCAT Staff Club https://rrcatstaffclub.in/calendar/event/394-rr
 cat-summer-camp-2024
DTSTART:20240506T000000Z
DTEND:20240607T182900Z
LOCATION:RRCAT Colony (RRCAT\, Indore\, Madhya Pradesh\, India)
SUMMARY:RRCAT Summer Camp 2024
URL:https://rrcatstaffclub.in/calendar/event/394-rrcat-summer-camp-2024
END:VEVENT
END:VCALENDAR
