BEGIN:VCALENDAR
VERSION:2.0
PRODID:-//https://rrcatstaffclub.in///NONSGML kigkonsult.se iCalcreator 2.10.15//
METHOD:PUBLISH
BEGIN:VEVENT
UID:20260425T023048UTC-7342MrpXlu@https://rrcatstaffclub.in/
DTSTAMP:20260425T023048Z
DESCRIPTION:Dear All\,   As part of our annual tradition\, RRCAT Staff Club
  is delighted to announce the Summer Carnival-2025\, which will be held fr
 om 10th May to 8th June 2025. You are invited to participate by filling ou
 t the form available at the following link:  &nbsp\;https://rrcatstaffclub
 .in/summer-carnival-2025/application-form  This link will be active only a
 fter 19:00 hrs on 22nd April 2025.   This year\, we are excited to include
  special activities for RRCAT Staff club members and their spouses/parents
 . These activities are marked as 'Youth' in the on-line form. The activiti
 es marked as 'minor' meant for children. &nbsp\;  Please ensure that you r
 ead all the instructions in the attached file before submitting the form. 
  IMPORTANT: The participation fee must be submitted only through the SBI C
 ollect link\, which will be provided within the form and also emailed to y
 ou after submission of the form. Please ensure that you select 'Summer Car
 nival-2025'in the drop down menu of Select Category.  We look forward to y
 our enthusiastic participation and making this carnival a memorable one!  
 with regards Gurvinderjit Singh Secretary\, RRCAT Staff Club https://rrcat
 staffclub.in/calendar/event/436-rrcat-summer-carnival-2025
DTSTART:20250510T000000Z
DTEND:20250608T182900Z
LOCATION:RRCAT Colony (RRCAT\, Indore\, Madhya Pradesh\, India)
SUMMARY:RRCAT Summer Carnival 2025
URL:https://rrcatstaffclub.in/calendar/event/436-rrcat-summer-carnival-2025
END:VEVENT
END:VCALENDAR
