BEGIN:VCALENDAR
VERSION:2.0
PRODID:-//https://rrcatstaffclub.in///NONSGML kigkonsult.se iCalcreator 2.10.15//
METHOD:PUBLISH
BEGIN:VEVENT
UID:20260426T001217UTC-94373T2Vsk@https://rrcatstaffclub.in/
DTSTAMP:20260426T001217Z
DESCRIPTION:Dear all\,\nAs a part of International Day of Yoga Celebrations
  2024 (IDY-2024) RRCAT Staff club is happy to announce a lecture cum works
 hop on 'Empowerment through Yoga' as per the following details:\n&nbsp\;\n
 Date: 14th June 2024 (Friday)Venue: Convention Centre\, RRCATTime: 18.30 t
 o 20.00 h\n&nbsp\;\nSpeaker: Dr. Hemant Sharma\, International Yoga Traine
 r &amp\; Therapist.\n&nbsp\;\nFurther details are given in the attachment.
 All are requested to take benefit of the lecture and lead a holistic livin
 g.With best\n&nbsp\;\n&nbsp\;\nregards\n&nbsp\;\nDr.Gurvinder SinghSecreta
 ry\, RRCAT Staff Club https://rrcatstaffclub.in/events/rrcat/event/396-lec
 ture-cum-workshop-on-empowerment-through-yoga
DTSTART:20240614T130000Z
DTEND:20240614T143000Z
LOCATION:Yoga Center (Unnamed Road\, RRCAT\, Indore\, Madhya Pradesh 452013
 \, India)
SUMMARY:Lecture cum workshop on 'Empowerment through Yoga'
URL:https://rrcatstaffclub.in/events/rrcat/event/396-lecture-cum-workshop-o
 n-empowerment-through-yoga
END:VEVENT
END:VCALENDAR
