BEGIN:VCALENDAR
VERSION:2.0
PRODID:-//https://rrcatstaffclub.in///NONSGML kigkonsult.se iCalcreator 2.10.15//
METHOD:PUBLISH
BEGIN:VEVENT
UID:20260425T222508UTC-6483k4IlLn@https://rrcatstaffclub.in/
DTSTAMP:20260425T222508Z
DESCRIPTION:\nDear All\nWe are delighted to announce an enchanting Sham-e-G
 hazal evening organized by the RRCAT Staff Club! Join us for an unforgetta
 ble evening filled with the beauty of Ghazal poetry and captivating perfor
 mance. An eminent Ghazal singer from Madhya Pradesh 'Shri Ankit Parolkar' 
 will be present to amaze us with his soulful singing. The details of progr
 am are provided below:\nDate: 27th July\, 2024 (Saturday)Time: 6:00PM to 8
 :00PMVenue: Convention Centre\, RRCAT\nIn a unique opportunity\, a few RRC
 AT staff club members ( maximum 06 number) will also be given the chance t
 o perform their favorite ghazals\, showcasing their talent and passion. RR
 CAT Staff Club members will be selected to perform after screening process
 \, which will take place on 21st July (Sunday) at Music Room\, Indoor Spor
 ts Complex\, RRCAT from 11:00AM to 2:00PM.Those interested in performing a
 re encouraged to come for the screening.\n&nbsp\;\nFor more details please
  contact Shri Arvind Singh Padiyar (Ext: 8717\, arvindsingh@rrcat.gov.in).
 \n&nbsp\;\nRequest you all to join us along with your family\, friends and
  loved ones for this mesmerizing musical evening filled with soulful melod
 ies.  \n\nwith regardsGurvinderjit Singh\n\n https://rrcatstaffclub.in/cal
 endar/event/397-sham-e-ghazal
DTSTART:20240727T123000Z
DTEND:20240727T143000Z
LOCATION:RRCAT Convention Centre (RRCAT Covention Centre)
SUMMARY:Sham-e-Ghazal
URL:https://rrcatstaffclub.in/calendar/event/397-sham-e-ghazal
END:VEVENT
BEGIN:VEVENT
UID:20260425T222508UTC-64855CPV7W@https://rrcatstaffclub.in/
DTSTAMP:20260425T222508Z
DESCRIPTION:Dear All The date and venue of 39th DAE sports and cultural mee
 t for Chess is already announced. The selection trail for Dwarka group Che
 ss team will also be held shortly. In view of this\, the intra-RRCAT selec
 tion trials for Chess will be held on 27th July\, 2023 at Indoor sports co
 mplex\, RRCAT. The selected participants will represent RRCAT in DWARKA gr
 oup team selection trials.&nbsp\;   Kindly see the attached file for more 
 details.   with regards  Gurvinderjit Singh  Secretary\, RRCAT Staff club 
 https://rrcatstaffclub.in/calendar/event/398-intra-rrcat-selection-trials-
 for-chess
DTSTART;VALUE=DATE:20240727
LOCATION:Indoor Sports Complex\, RRCAT Colony (RRCAT\, Indore\, Madhya Prad
 esh 452013\, India)
SUMMARY:Intra-RRCAT Selection trials for CHESS
URL:https://rrcatstaffclub.in/calendar/event/398-intra-rrcat-selection-tria
 ls-for-chess
END:VEVENT
END:VCALENDAR
