BEGIN:VCALENDAR
VERSION:2.0
PRODID:-//https://rrcatstaffclub.in///NONSGML kigkonsult.se iCalcreator 2.10.15//
METHOD:PUBLISH
BEGIN:VEVENT
UID:20260425T204056UTC-7942xGwJCD@https://rrcatstaffclub.in/
DTSTAMP:20260425T204056Z
DESCRIPTION:\nDear All  We are delighted to announce a musical evening dedi
 cated to the legendary singer Mohammad Rafi\, organized by the RRCAT Staff
  Club!. Please come and enjoy a night of soulful music. Let's celebrate th
 e timeless classics of Rafi sahib together.  RRCAT staff club members will
  be performing on this night with experienced orchestra team. Members who 
 are interested for showcasing their passion towards music may come forward
  to participate in this event. As the practice is required and the time re
 mains less so please give the names well before 27 July 2024 to Shri Arvin
 d Singh Pdiyar through email or on mobile (email - arvindsingh@rrcat.gov.i
 n\, mob- 8827493782)  The details of program are provided below:  DATE: 3r
 d August\, 2024 (Saturday) TIME: 6:00PM to 8:00PM VENUE: Convention Centre
 \, RRCAT\nJoin us with your friends and family for an evening filled with 
 nostalgia\, camaraderie\, and the magic of Rafi Sahab's golden era.\n\n\nw
 ith regardsGurvinderjit Singh Secretary\, RRCAT Staff Club\n&nbsp\;\n\n\n 
 https://rrcatstaffclub.in/calendar/event/399-rafi-nights-a-musical-tribute
 -to-legendary-singer-mohammed-rafi
DTSTART:20240803T123000Z
DTEND:20240803T143000Z
LOCATION:Homi Bhabha Auditorium\, RRCAT Convention Center (Unnamed Road\, R
 RCAT\, Indore\, Madhya Pradesh 452013\, India)
SUMMARY:'Rafi nights': A musical tribute to  legendary singer Mohammed Rafi
 !
URL:https://rrcatstaffclub.in/calendar/event/399-rafi-nights-a-musical-trib
 ute-to-legendary-singer-mohammed-rafi
END:VEVENT
END:VCALENDAR
