BEGIN:VCALENDAR
VERSION:2.0
PRODID:-//https://rrcatstaffclub.in///NONSGML kigkonsult.se iCalcreator 2.10.15//
METHOD:PUBLISH
BEGIN:VEVENT
UID:20260425T203854UTC-43013CsWXr@https://rrcatstaffclub.in/
DTSTAMP:20260425T203854Z
DESCRIPTION:Dear All  RRCAT Staff Club is organizing &nbsp\;a pickle-ball t
 ournament for beginner's on 10 -11 August\, 2024. Please see the attached 
 file for details\n&nbsp\;\nhttps://www.rrcatstaffclub.in/forms/sports/pick
 leball-beginners-tournament/application\n&nbsp\;\n with regards Gurvinderj
 it Singh Secretary\, RRCAT Staff Club\n\n&nbsp\;\n\n\n https://rrcatstaffc
 lub.in/calendar/event/400-pickleball-beginnerstournament
DTSTART:20240810T013000Z
DTEND:20240811T163000Z
LOCATION:Indoor Sports Complex\, RRCAT Colony (RRCAT\, Indore\, Madhya Prad
 esh 452013\, India)
SUMMARY:Pickleball BeginnersTournament
URL:https://rrcatstaffclub.in/calendar/event/400-pickleball-beginnerstourna
 ment
END:VEVENT
END:VCALENDAR
