BEGIN:VCALENDAR
VERSION:2.0
PRODID:-//https://rrcatstaffclub.in///NONSGML kigkonsult.se iCalcreator 2.10.15//
METHOD:PUBLISH
BEGIN:VEVENT
UID:20260425T185739UTC-1496DL3ICx@https://rrcatstaffclub.in/
DTSTAMP:20260425T185739Z
DESCRIPTION:\nDear All The trials of DWARKA team selection for Cultural-1 i
 .e. Music &amp\; Dance will be held on 21-22 October\, 2024 at BARC-Tarapu
 r.&nbsp\; In view of this\, the intra-RRCAT selection trials for Group Dan
 ce will be held as per the following schedule:\n&nbsp\;\nVanue&nbsp\; : In
 door sports complex\, RRCAT\nTime&nbsp\;&nbsp\; : 10:30 AM\nDate&nbsp\;&nb
 sp\; :31.08.2024\n&nbsp\;\nThe selected participants will represent RRCAT 
 in DWARKA group team selection trials at BARC-Tarapur.\n&nbsp\;\nPlease co
 ntact Sh.Mahendra Vadgama (9926032249)\, Sh. Umakant Srivastava(9425349306
 ) or Ms.Shruti gupta( 2503) for further details.\n\n\nwith regardsGurvinde
 rjit Singh Secretary\, RRCAT Staff Club\n\n\n https://rrcatstaffclub.in/ca
 lendar/event/382-dwarka-intra-rrcat-selection-trials-for-cultural-events
DTSTART:20240831T050000Z
DTEND:20240831T093000Z
LOCATION:Indoor Sports Complex\, RRCAT Colony (RRCAT\, Indore\, Madhya Prad
 esh 452013\, India)
SUMMARY:DWARKA: Intra-RRCAT Selection Trials for Cultural Events
URL:https://rrcatstaffclub.in/calendar/event/382-dwarka-intra-rrcat-selecti
 on-trials-for-cultural-events
END:VEVENT
END:VCALENDAR
