BEGIN:VCALENDAR
VERSION:2.0
PRODID:-//https://rrcatstaffclub.in///NONSGML kigkonsult.se iCalcreator 2.10.15//
METHOD:PUBLISH
BEGIN:VEVENT
UID:20260425T185448UTC-4542VrlO47@https://rrcatstaffclub.in/
DTSTAMP:20260425T185448Z
DESCRIPTION:Dear all\, Nature &amp\; Adventure Circle\, RRCAT Staff Club is
  organizing&nbsp\; a trek at Sendal - Okhaleshwar region on 1st September\
 , 2024 (Sunday) for the RRCAT Staff Club members and their wards. The trek
 king program notice along with enrollment procedure and general instructio
 ns is attached.  Please note that only on-line submission of the form is a
 llowed. Use following link to enroll for the trekking:\n\nhttps://rrcatsta
 ffclub.in/forms/nac/trekking-sep24/application\n &nbsp\; Online enrollemen
 t will open on 28th August\, 2024 from 11:00 AM onward.\n&nbsp\;\n Any fur
 ther detail regarding this can be obtained from Dr. Vishnu Kr. Sharma (999
 3117334) or Shri Rajesh Shirshat (8989600083)  With regards Gurvinderjit S
 ingh Secretary\, RRCAT Staff Club\n\n&nbsp\;\n\n\n&nbsp\; https://rrcatsta
 ffclub.in/calendar/event/402-trekking-sendal-okhaleshwar-region
DTSTART:20240901T014500Z
DTEND:20240901T123000Z
LOCATION:Welfare Center - RRCAT Colony (Unnamed Road\, RRCAT\, Indore\, Mad
 hya Pradesh 452013\, India)
SUMMARY:Trekking Sendal (Okhaleshwar Region)
URL:https://rrcatstaffclub.in/calendar/event/402-trekking-sendal-okhaleshwa
 r-region
END:VEVENT
END:VCALENDAR
