BEGIN:VCALENDAR
VERSION:2.0
PRODID:-//https://rrcatstaffclub.in///NONSGML kigkonsult.se iCalcreator 2.10.15//
METHOD:PUBLISH
BEGIN:VEVENT
UID:20260425T185639UTC-4610LVjClk@https://rrcatstaffclub.in/
DTSTAMP:20260425T185639Z
DESCRIPTION:\n\nप्रिय साथियों\, आरआरकेट स्टाफ क्लब द्वारा साहित्यिक कार्यक्
 रमों की श्रृंखला में हिंदी साहित्य के लब्ध प्रतिष्ठित व्यंग्कार हरिशंकर पर
 साई की स्मृति में कार्यक्रम 'व्यंग रंग' का आयोजन किया जा रहा है। इस कार्यक
 ्रम के अंतर्गत व्यंग रचना पाठ व हरिशंकर परसाई द्वारा रचित व्यंग रचना पर आध
 ारित दो लघु नाटकों का मंचन रंगरूपिया थियेटर्स-इंदौर द्वारा किया जायेगा |  
 कार्यक्रम नाम : व्यंग-रंग दिनांक : 06.09.2024 (शुक्रवार) समय &nbsp\;: 6:30
 - 8:30 PM स्थान &nbsp\;: सम्मेलन केंद्र\,आरआरकेट\n&nbsp\;\nआप सब सादर आमंत
 ्रित हैं !  इस आयोजन से संबंधित अधिक जानकारी के लिए श्री आशुतोष प्रताप सिं
 ह (प्रभारी व संयोजक\, नाट्य) या श्री दीपक वाघमारे (सह-संयोजक\, नाट्य) से स
 ंपर्क करें|  धन्यवाद !\nगुरविंदरजीत सिंह\nसचिव\, आरआरकेट स्टाफ कलब  ------
 --------------------------------------------------------------------------
 ------------------  Dear friends\,  In the series of literary programs by 
 RRCAT Staff Club\, a program 'Vyang Rang' is being organized in remembranc
 e of the renowned satirist of Hindi literature\, Harishankar Parsai. Under
  this program\, satire recitation and two short plays based on satires wri
 tten by Harishankar Parsai will be staged by Rangrupiya Theatres-Indore.  
 Program Name: Vyang-Rang  Date: 06.09.2024 (Friday)  Time: 6:30- 8:30 PM  
 Venue: Conference Center\, RRCAT  You are all cordially invited!  For more
  information related to this event\, contact Mr. Ashutosh Pratap Singh (In
 -charge and Coordinator\, Drama) or Mr. Deepak Waghmare (Co-coordinator\, 
 Drama).  Thank you! Gurvinderjit Singh Secretary\, RRCAT Staff Club\n\n\n
 \n&nbsp\;\n\n\n https://rrcatstaffclub.in/calendar/event/403-staging-of-sh
 ort-play-vyang-rang
DTSTART:20240906T130000Z
DTEND:20240906T150000Z
LOCATION:Homi Bhabha Auditorium\, RRCAT Convention Center (Unnamed Road\, R
 RCAT\, Indore\, Madhya Pradesh 452013\, India)
SUMMARY:Staging of short play : Vyang Rang
URL:https://rrcatstaffclub.in/calendar/event/403-staging-of-short-play-vyan
 g-rang
END:VEVENT
BEGIN:VEVENT
UID:20260425T185639UTC-4614RfS8Wh@https://rrcatstaffclub.in/
DTSTAMP:20260425T185639Z
DESCRIPTION:Dear all\,  Yog Circle\, RRCAT staff club is happy to announce 
 a workshop on 'Vipassana Meditation' for the benefit of RRCAT Staff Club m
 embers and their family members.Following are the program details:  Date: 
 06.09.2024 (Friday) Time: 18:30 - 19:45 hrs. Venue: Multipurpose Hall\, AE
 CS. Session Conducted by: Shri A G Gokhale\, Trainer\, Dhamma Malwa Vipass
 ana Meditation Centre\, Indore  See attached file for more details. All ar
 e requested to attend and get benefited. \n\nwith regardsGurvinderjit Sing
 h Secretary\, RRCAT Staff Club\n\n\n&nbsp\;&nbsp\; https://rrcatstaffclub.
 in/calendar/event/406-announcement-of-workshop-on-vipassana-meditation
DTSTART:20240906T130000Z
DTEND:20240906T141500Z
LOCATION:Multipurpose Hall\, AECS\, Indore (Unnamed Road\, RRCAT\, Indore\,
  Madhya Pradesh 452013\, India)
SUMMARY:Announcement of workshop on VIPASSANA MEDITATION
URL:https://rrcatstaffclub.in/calendar/event/406-announcement-of-workshop-o
 n-vipassana-meditation
END:VEVENT
END:VCALENDAR
