BEGIN:VCALENDAR
VERSION:2.0
PRODID:-//https://rrcatstaffclub.in///NONSGML kigkonsult.se iCalcreator 2.10.15//
METHOD:PUBLISH
BEGIN:VEVENT
UID:20260424T210232UTC-8423ODadu6@https://rrcatstaffclub.in/
DTSTAMP:20260424T210232Z
DESCRIPTION:\nhttps://www.rrcatstaffclub.in/forms/sports/pickleball-premier
 -league-2025\n\n https://rrcatstaffclub.in/calendar/event/437-pickleball-p
 remier-league-2025
DTSTART:20250905T023000Z
DTEND:20250914T123000Z
LOCATION:Indoor Sports Complex\, RRCAT Colony (RRCAT\, Indore\, Madhya Prad
 esh 452013\, India)
SUMMARY:Pickleball Premier League 2025
URL:https://rrcatstaffclub.in/calendar/event/437-pickleball-premier-league-
 2025
END:VEVENT
END:VCALENDAR
