BEGIN:VCALENDAR
VERSION:2.0
PRODID:-//https://rrcatstaffclub.in///NONSGML kigkonsult.se iCalcreator 2.10.15//
METHOD:PUBLISH
BEGIN:VEVENT
UID:20260425T185928UTC-588257V7At@https://rrcatstaffclub.in/
DTSTAMP:20260425T185928Z
DESCRIPTION:\n\nDear All The intra-RRCAT trials of Table Tennis for partici
 pation in DWARKA group team selection trials will be held on 15th Septembe
 r 2024 (Sunday). The trails will be held for Ladies/Gents &amp\; Veteran c
 ategories.\nAll interested players are requested to report at Indoor Sport
 s Complex\, RRCAT at 11.00 AM for selection trials.  The selected players 
 will represent RRCAT in DWARKA group team selection trials to be held at K
 APS\, Kakrapar during 15-16 October 2024.  In case of query\, any of the f
 ollowing may be contacted.  &nbsp\;&nbsp\;&nbsp\;&nbsp\; Dr. Surendra Yada
 v\, Convener\, Table-tennis (ext:2554) &nbsp\;&nbsp\;&nbsp\;&nbsp\; Sh.San
 tosh Sitole \, Co-convener\, Table-tennis (Ext: 8509\, Mob: 7828072288) &n
 bsp\;&nbsp\;&nbsp\;&nbsp\; Sh. Nirmal Sisodiya Co-convener\, Table-tennis 
 (8085\, 9826810326) &nbsp\;&nbsp\;&nbsp\;&nbsp\; \n\nwith regardsGurvinder
 jit Singh Secretary\, RRCAT Staff Club\n\n\n\n https://rrcatstaffclub.in/c
 alendar/event/411-intra-rrcat-selection-trials-for-dwarka-table-tennis
DTSTART:20240915T053000Z
DTEND:20240915T143000Z
LOCATION:Indoor Sports Complex\, RRCAT Colony (RRCAT\, Indore\, Madhya Prad
 esh 452013\, India)
SUMMARY:Intra-RRCAT Selection Trials for DWARKA: Table Tennis
URL:https://rrcatstaffclub.in/calendar/event/411-intra-rrcat-selection-tria
 ls-for-dwarka-table-tennis
END:VEVENT
BEGIN:VEVENT
UID:20260425T185928UTC-5884IEv5a9@https://rrcatstaffclub.in/
DTSTAMP:20260425T185928Z
DESCRIPTION:Dear All  Intra-RRCAT trials of Carrom for participation in DWA
 RKA group team selection trials will be held betweem 13th to 16th\, Septem
 ber 2024. The selection trials will be conducted in Gents (Open) and&nbsp\
 ; Ladies (Open)\,&nbsp\; categories.&nbsp\; All interested players are req
 uested to report in Baghi Khanna\, Indoor Sports Complex\, RRCAT at 09.00 
 AM ON 13TH SEPTEMBER 2024 for selection trials.\nLadies players are encour
 aged to participate in selection trials.   The selected participants will 
 represent RRCAT in DWARKA group team&nbsp\; selection trials to be held at
  KAPS\, Kakarapar during 24-26 October\, 2024.  In case of query\, please 
 contact Shri Pradeep Upadhyay ( Ext: 8719\; Mob: 9424809830)\, Shri Laksha
 y Gupta (Ext: 2299\, 8708) and Shri Sumit Kushwaha (Ext: 8422)   &nbsp\;&n
 bsp\;&nbsp\;  \n\nwith regardsGurvinderjit Singh Secretary\, RRCAT Staff C
 lub\n\n https://rrcatstaffclub.in/calendar/event/413-intra-rrcat-selection
 -trials-for-dwarka-carrom
DTSTART:20240913T033000Z
DTEND:20240916T170000Z
LOCATION:Indoor Sports Complex\, RRCAT Colony (RRCAT\, Indore\, Madhya Prad
 esh 452013\, India)
SUMMARY:Intra-RRCAT Selection Trials for DWARKA: Carrom
URL:https://rrcatstaffclub.in/calendar/event/413-intra-rrcat-selection-tria
 ls-for-dwarka-carrom
END:VEVENT
END:VCALENDAR
