BEGIN:VCALENDAR
VERSION:2.0
PRODID:-//https://rrcatstaffclub.in///NONSGML kigkonsult.se iCalcreator 2.10.15//
METHOD:PUBLISH
BEGIN:VEVENT
UID:20260425T185858UTC-3698P45nvv@https://rrcatstaffclub.in/
DTSTAMP:20260425T185858Z
DESCRIPTION:\nDear All Dwarka group team selection trials for Basket-ball w
 ill be held on 26-27 September\, 2024 at AMD Nagpur. In view of this Intra
 -RRCAT selection trial is planned on 18th&nbsp\; September 2024 (Wednesday
 ) from 1830 hrs onwards at Basket ball ground\, near Indoor Sports Complex
 \, RRCAT. All interested players may contact Sh. Devilal Godara at (ext: 8
 116\; Mob: 9424880760) or Sh. Sameer Kumar (Mob: 7000096624)\n&nbsp\;\nThe
  selected player will participate in DWARKA team selection trials to be he
 ld at AMD\, Nagpur.  \n\nwith regardsGurvinderjit Singh Secretary\, RRCAT 
 Staff Club\n&nbsp\;\n\n\n https://rrcatstaffclub.in/calendar/event/409-dwa
 rka-intra-rrcat-selection-trials-basketball
DTSTART:20240918T130000Z
DTEND:20240918T163000Z
LOCATION:New Basketball court ()
SUMMARY:DWARKA: Intra-RRCAT selection trials  - Basketball
URL:https://rrcatstaffclub.in/calendar/event/409-dwarka-intra-rrcat-selecti
 on-trials-basketball
END:VEVENT
END:VCALENDAR
