BEGIN:VCALENDAR
VERSION:2.0
PRODID:-//https://rrcatstaffclub.in///NONSGML kigkonsult.se iCalcreator 2.10.15//
METHOD:PUBLISH
BEGIN:VEVENT
UID:20260425T185602UTC-76957AggvD@https://rrcatstaffclub.in/
DTSTAMP:20260425T185602Z
DESCRIPTION:Dear all RRCAT staff club is excited to announce the Annual Pic
 kle-ball Tournament 2024 for RRCAT Staff Club members. Use following link 
 for participation in the tournament:   https://www.rrcatstaffclub.in/forms
 /sports/annual-pickleball-tournament Please see attached file for more det
 ails. \n\nwith regardsGurvinderjit Singh Secretary\, RRCAT Staff Club\n&nb
 sp\;\n\n\n https://rrcatstaffclub.in/calendar/event/414-annual-pickleball-
 tournament-2024
DTSTART:20240921T013000Z
DTEND:20240922T163000Z
LOCATION:Indoor Sports Complex\, RRCAT Colony (RRCAT\, Indore\, Madhya Prad
 esh 452013\, India)
SUMMARY:Annual Pickleball Tournament 2024
URL:https://rrcatstaffclub.in/calendar/event/414-annual-pickleball-tourname
 nt-2024
END:VEVENT
END:VCALENDAR
