BEGIN:VCALENDAR
VERSION:2.0
PRODID:-//https://rrcatstaffclub.in///NONSGML kigkonsult.se iCalcreator 2.10.15//
METHOD:PUBLISH
BEGIN:VEVENT
UID:20260425T185806UTC-25524gdcxh@https://rrcatstaffclub.in/
DTSTAMP:20260425T185806Z
DESCRIPTION:\n\nDear AllIntra-RRCAT selection trial for Ball-badminton will
  be held on 23rd September 2024 (Monday) from 19:30 hrs onwards at Ball Ba
 d-Minton ground\, near dispensary backside\, RRCAT. All interested players
  may contact Shri. Pazhani S\, (Mob: 8989146821) or Shri Annamoorthiraja R
  (Mob: 8120099307) or Shri Patil Premsingh Gulabsingh (Mob: 9691602818).\n
 &nbsp\;\nThe selected players will participate in DWARKA team selection tr
 ails to be held at BARC-Tarapur on 21-22 Nov.\, 2024. \n\nwith regardsGurv
 inderjit Singh Secretary\, RRCAT Staff Club\n\n\n\n https://rrcatstaffclub
 .in/calendar/event/410-intra-rrcat-selection-trials-for-dwarka-ball-badmin
 ton
DTSTART:20240923T140000Z
DTEND:20240923T163000Z
LOCATION:Ball Badminton Court (1\, CAT Rd\, Parmanu Nagar\, Rajendra Nagar\
 , Indore\, Madhya Pradesh 452013\, India)
SUMMARY:Intra-RRCAT Selection Trials for DWARKA: Ball Badminton
URL:https://rrcatstaffclub.in/calendar/event/410-intra-rrcat-selection-tria
 ls-for-dwarka-ball-badminton
END:VEVENT
END:VCALENDAR
