BEGIN:VCALENDAR
VERSION:2.0
PRODID:-//https://rrcatstaffclub.in///NONSGML kigkonsult.se iCalcreator 2.10.15//
METHOD:PUBLISH
BEGIN:VEVENT
UID:20260425T185601UTC-7541kj4DJN@https://rrcatstaffclub.in/
DTSTAMP:20260425T185601Z
DESCRIPTION:\n\nDear AllIntra-RRCAT trials of Badminton for participation i
 n DWARKA group team selection trials will be held on 28th and 29th Septemb
 er 2024. The selection trials will be conducted in Gents (Open)\, Ladies (
 Open)\, Gents (Veterans) and Ladies (Veterans) categories. Minimum age lim
 it for Veterans is 50 years as on January 01.01.2024 (i.e. born on or befo
 re 31.12.1973). All interested players are requested to report in Badminto
 n Court (Yoga Building) at 09.00 AM ON 28TH SEPTEMBER 2024 for selection t
 rials. Ladies players are encouraged to participate in selection trials.\n
 The selected participants will represent RRCAT in DWARKA group team select
 ion trials to be held in RRCAT\, Indore during 8-10 November 2024.In case 
 of query\, any of the following may be contacted.&nbsp\;&nbsp\;&nbsp\;&nbs
 p\;&nbsp\;* Nitesh Mishra\, Convener\, Badminton (2707\, 9179626164)&nbsp\
 ;&nbsp\;&nbsp\;&nbsp\;&nbsp\;* Ankit Gupta\, Co-convener\, Badminton (2642
 \, 9919152301)&nbsp\;&nbsp\;&nbsp\;&nbsp\;&nbsp\;* Kavita Bhatt\, Co-conve
 ner\, Badminton (8049\, 9407301877)&nbsp\;&nbsp\;&nbsp\;&nbsp\;&nbsp\;* Na
 vneet Kumar Sharma\, Activity Incharge\, Badminton (2248\, 9424888908)\n\n
 with regardsGurvinderjit SinghSecretary\, RRCAT Staff Club\n\n\n\n https:/
 /rrcatstaffclub.in/calendar/event/412-intra-rrcat-selection-trials-for-dwa
 rka-badminton
DTSTART:20240928T033000Z
DTEND:20240929T163000Z
LOCATION:Yoga Center (Unnamed Road\, RRCAT\, Indore\, Madhya Pradesh 452013
 \, India)
SUMMARY:Intra-RRCAT Selection trials for DWARKA:  Badminton
URL:https://rrcatstaffclub.in/calendar/event/412-intra-rrcat-selection-tria
 ls-for-dwarka-badminton
END:VEVENT
END:VCALENDAR
