BEGIN:VCALENDAR
VERSION:2.0
PRODID:-//https://rrcatstaffclub.in///NONSGML kigkonsult.se iCalcreator 2.10.15//
METHOD:PUBLISH
BEGIN:VEVENT
UID:20260425T171622UTC-15964WbXE3@https://rrcatstaffclub.in/
DTSTAMP:20260425T171622Z
DESCRIPTION:\nDear all The Intra RRCAT selection trials for Lawn Tennis wil
 l be held on 5 &amp\; 6th Oct. 2024\, from 07:30hrs onward at Lawn Tennis 
 Court 1 &amp\; 2. The selected player will participate in&nbsp\; Dwarka te
 am selection trials to be held from 15th to 17th November\, 2024 at RRCAT.
 \n&nbsp\;\nPlease see attached file for more details.\n\n\nwith regardsGur
 vinderjit Singh Secretary\, RRCAT Staff Club\n&nbsp\;\n\n\n https://rrcats
 taffclub.in/calendar/event/421-intra-rrcat-selection-trials-for-dwarka-law
 n-tennis
DTSTART:20241005T020000Z
DTEND:20241006T163000Z
LOCATION:Tennis Courts 1 & 2 (Unnamed Road\, RRCAT\, Indore\, Madhya Prades
 h 452013\, India)
SUMMARY:Intra-RRCAT Selection trials for DWARKA: Lawn Tennis
URL:https://rrcatstaffclub.in/calendar/event/421-intra-rrcat-selection-tria
 ls-for-dwarka-lawn-tennis
END:VEVENT
END:VCALENDAR
