BEGIN:VCALENDAR
VERSION:2.0
PRODID:-//https://rrcatstaffclub.in///NONSGML kigkonsult.se iCalcreator 2.10.15//
METHOD:PUBLISH
BEGIN:VEVENT
UID:20260425T171621UTC-7780Lfk8H6@https://rrcatstaffclub.in/
DTSTAMP:20260425T171621Z
DESCRIPTION:Dear All RRCAT Staff Club is organizing a Annual Cricket League
  tournament 2024-25 (Tennis ball) from 12/10/2024 for RRCAT Staff Club mem
 bers. Please see the attached file for more details.\n\nwith regardsGurvin
 derjit Singh Secretary\, RRCAT Staff Club\n https://rrcatstaffclub.in/cale
 ndar/event/419-annual-tennis-ball-league-cricket-tournament-2024-25
DTSTART:20241012T033000Z
DTEND:20250119T033000Z
LOCATION:AECS School Playground (Unnamed Road\, RRCAT\, Indore\, Madhya Pra
 desh 452013\, India)
SUMMARY:Annual Tennis Ball League Cricket Tournament 2024-25
URL:https://rrcatstaffclub.in/calendar/event/419-annual-tennis-ball-league-
 cricket-tournament-2024-25
END:VEVENT
BEGIN:VEVENT
UID:20260425T171621UTC-7782uRnOSX@https://rrcatstaffclub.in/
DTSTAMP:20260425T171621Z
DESCRIPTION:\nDear All\n&nbsp\;\nWe are excited to announce that\, followin
 g the successful introduction of baseball activities for the wards of RRCA
 T staff members in 2023\, the RRCAT Staff Club is extending this opportuni
 ty to all RRCAT employees.&nbsp\; In view of this\, RRCAT Staff Club condu
 cting two days workshop on 19 &amp\; 20 Oct.\, 2024 ( 16:hrs onward) follo
 wed by tournament from 21st to 27th October\, 2024&nbsp\;for RRCAT Staff C
 lub members.\n\nPlease see the attached file for further details and enrol
 lment information.\nWe look forward to your participation!\n&nbsp\;\nwith 
 regards\nGurvinderjit SinghSecretary\, RRCAT Staff Club\n\n https://rrcats
 taffclub.in/calendar/event/422-baseball-workshop-cum-tournament
DTSTART:20241019T103000Z
DTEND:20241027T163000Z
LOCATION:AECS School Playground (Unnamed Road\, RRCAT\, Indore\, Madhya Pra
 desh 452013\, India)
SUMMARY:Baseball-Workshop-Cum-Tournament
URL:https://rrcatstaffclub.in/calendar/event/422-baseball-workshop-cum-tour
 nament
END:VEVENT
BEGIN:VEVENT
UID:20260425T171621UTC-7784fob4I3@https://rrcatstaffclub.in/
DTSTAMP:20260425T171621Z
DESCRIPTION:Dear All   RRCAT staff club is happy to announce annual 2024-25
  Athletic track and field meet for RRCAT Staff Club members. The meet will
  be held on 19-20 October\, 2024 at AECS ground\, RRCAT. The interested pl
 ayers are requested to report at 8:30AM (19/10/2024) in AECS ground.   Thi
 s meet will also be used to select players to participate in Dwarka group 
 team selection trials to be held on 10-11 December\, 2024 at TAPS 3&amp\;4
 \, TARAPUR   All interested players &nbsp\;may contact Sh. Bhupendra Singh
  at (ext: 8392\, Mob: 9425478942)\, Sh. Sudarsan Kishan (ext: 2706) or Kri
 shan Kant Kumar (ext: 8254) for any further details.   with regards Gurvin
 derjit Singh Secretary\, RRCAT Staff Club https://rrcatstaffclub.in/calend
 ar/event/423-annual-athletic-meet-2024-25-cum-intra-rrcat-selection-trials
 -for-dwarka
DTSTART:20241019T030000Z
DTEND:20241020T123000Z
LOCATION:AECS School Playground (Unnamed Road\, RRCAT\, Indore\, Madhya Pra
 desh 452013\, India)
SUMMARY:Annual athletic meet 2024-25 cum Intra RRCAT selection trials for D
 warka
URL:https://rrcatstaffclub.in/calendar/event/423-annual-athletic-meet-2024-
 25-cum-intra-rrcat-selection-trials-for-dwarka
END:VEVENT
END:VCALENDAR
