BEGIN:VCALENDAR
VERSION:2.0
PRODID:-//https://rrcatstaffclub.in///NONSGML kigkonsult.se iCalcreator 2.10.15//
METHOD:PUBLISH
BEGIN:VEVENT
UID:20260424T172423UTC-2085GTHunV@https://rrcatstaffclub.in/
DTSTAMP:20260424T172423Z
DESCRIPTION:\n\n&nbsp\;\n\n https://rrcatstaffclub.in/calendar/event/439-an
 nual-ball-badminton-tournament
DTSTART:20251108T040000Z
DTEND:20251109T123000Z
LOCATION:Ball Badminton Court (1\, CAT Rd\, Parmanu Nagar\, Rajendra Nagar\
 , Indore\, Madhya Pradesh 452013\, India)
SUMMARY:Annual Ball Badminton Tournament
URL:https://rrcatstaffclub.in/calendar/event/439-annual-ball-badminton-tour
 nament
END:VEVENT
END:VCALENDAR
