BEGIN:VCALENDAR
VERSION:2.0
PRODID:-//https://rrcatstaffclub.in///NONSGML kigkonsult.se iCalcreator 2.10.15//
METHOD:PUBLISH
BEGIN:VEVENT
UID:20260424T155039UTC-7109WOwgiI@https://rrcatstaffclub.in/
DTSTAMP:20260424T155039Z
DESCRIPTION:&nbsp\;\n https://rrcatstaffclub.in/calendar/event/438-u-16-pic
 kleball-workshop-2025
DTSTART:20251203T113000Z
DTEND:20251205T133000Z
LOCATION:Indoor Sports Complex\, RRCAT Colony (RRCAT\, Indore\, Madhya Prad
 esh 452013\, India)
SUMMARY:U-16 Pickleball Workshop 2025
URL:https://rrcatstaffclub.in/calendar/event/438-u-16-pickleball-workshop-2
 025
END:VEVENT
BEGIN:VEVENT
UID:20260424T155039UTC-7110Av7UuV@https://rrcatstaffclub.in/
DTSTAMP:20260424T155039Z
DESCRIPTION:Click here - Pickleball Beginner Tournament 2025 https://rrcats
 taffclub.in/calendar/event/440-pickleball-beginners-tournament-2025
DTSTART:20251128T015600Z
DTEND:20251207T043000Z
LOCATION:Indoor Sports Complex\, RRCAT Colony (RRCAT\, Indore\, Madhya Prad
 esh 452013\, India)
SUMMARY:Pickleball Beginners Tournament 2025
URL:https://rrcatstaffclub.in/calendar/event/440-pickleball-beginners-tourn
 ament-2025
END:VEVENT
BEGIN:VEVENT
UID:20260424T155039UTC-7111iADlBv@https://rrcatstaffclub.in/
DTSTAMP:20260424T155039Z
DESCRIPTION: https://rrcatstaffclub.in/calendar/event/441-lawn-tennis-works
 hop
DTSTART:20251201T133000Z
DTEND:20251214T143000Z
LOCATION:Tennis Courts 1 & 2 (Unnamed Road\, RRCAT\, Indore\, Madhya Prades
 h 452013\, India)
SUMMARY:Lawn Tennis Workshop
URL:https://rrcatstaffclub.in/calendar/event/441-lawn-tennis-workshop
END:VEVENT
END:VCALENDAR
