BEGIN:VCALENDAR
VERSION:2.0
PRODID:-//https://rrcatstaffclub.in///NONSGML kigkonsult.se iCalcreator 2.10.15//
METHOD:PUBLISH
BEGIN:VEVENT
UID:20260424T155224UTC-1446zhez4j@https://rrcatstaffclub.in/
DTSTAMP:20260424T155224Z
DESCRIPTION: https://rrcatstaffclub.in/calendar/event/441-lawn-tennis-works
 hop
DTSTART:20251201T133000Z
DTEND:20251214T143000Z
LOCATION:Tennis Courts 1 & 2 (Unnamed Road\, RRCAT\, Indore\, Madhya Prades
 h 452013\, India)
SUMMARY:Lawn Tennis Workshop
URL:https://rrcatstaffclub.in/calendar/event/441-lawn-tennis-workshop
END:VEVENT
END:VCALENDAR
