BEGIN:VCALENDAR
VERSION:2.0
PRODID:-//https://rrcatstaffclub.in///NONSGML kigkonsult.se iCalcreator 2.10.15//
METHOD:PUBLISH
BEGIN:VEVENT
UID:20260425T134658UTC-3338kshpI4@https://rrcatstaffclub.in/
DTSTAMP:20260425T134658Z
DESCRIPTION:Dear All RRCAT Staff Club is organizing a Annual Cricket League
  tournament 2024-25 (Tennis ball) from 12/10/2024 for RRCAT Staff Club mem
 bers. Please see the attached file for more details.\n\nwith regardsGurvin
 derjit Singh Secretary\, RRCAT Staff Club\n https://rrcatstaffclub.in/cale
 ndar/event/419-annual-tennis-ball-league-cricket-tournament-2024-25
DTSTART:20241012T033000Z
DTEND:20250119T033000Z
LOCATION:AECS School Playground (Unnamed Road\, RRCAT\, Indore\, Madhya Pra
 desh 452013\, India)
SUMMARY:Annual Tennis Ball League Cricket Tournament 2024-25
URL:https://rrcatstaffclub.in/calendar/event/419-annual-tennis-ball-league-
 cricket-tournament-2024-25
END:VEVENT
BEGIN:VEVENT
UID:20260425T134658UTC-3340UBULX4@https://rrcatstaffclub.in/
DTSTAMP:20260425T134658Z
DESCRIPTION:Dear All\,  RRCAT Staff Club is pleased to announce an Under-9 
 Pickle-ball Workshop cum Tournament\, scheduled to be held from 16th to 19
 th December 2024.  For more details\, please refer to the attached file.  
 We look forward to enthusiastic participation! \n\nwith regardsGurvinderji
 t Singh Secretary\, RRCAT Staff Club\n&nbsp\;\n\n\n https://rrcatstaffclub
 .in/calendar/event/426-u-9-pickleball-workshop-cum-tournament-2024
DTSTART:20241216T103000Z
DTEND:20241219T133000Z
LOCATION:Indoor Sports Complex\, RRCAT Colony (RRCAT\, Indore\, Madhya Prad
 esh 452013\, India)
SUMMARY:U-9 Pickleball Workshop cum Tournament 2024
URL:https://rrcatstaffclub.in/calendar/event/426-u-9-pickleball-workshop-cu
 m-tournament-2024
END:VEVENT
END:VCALENDAR
