BEGIN:VCALENDAR
VERSION:2.0
PRODID:-//https://rrcatstaffclub.in///NONSGML kigkonsult.se iCalcreator 2.10.15//
METHOD:PUBLISH
BEGIN:VEVENT
UID:20260424T191213UTC-75518xLVJU@https://rrcatstaffclub.in/
DTSTAMP:20260424T191213Z
DESCRIPTION: https://rrcatstaffclub.in/calendar/event/329-pickleball-tourna
 ment-2021-22
DTSTART;VALUE=DATE:20211217
LOCATION:Indoor Sports Complex\, RRCAT Colony (RRCAT\, Indore\, Madhya Prad
 esh 452013\, India)
SUMMARY:Pickleball Tournament 2021-22
URL:https://rrcatstaffclub.in/calendar/event/329-pickleball-tournament-2021
 -22
END:VEVENT
END:VCALENDAR
