BEGIN:VCALENDAR
VERSION:2.0
PRODID:-//https://rrcatstaffclub.in///NONSGML kigkonsult.se iCalcreator 2.10.15//
METHOD:PUBLISH
BEGIN:VEVENT
UID:20260424T225122UTC-3114VVGoLv@https://rrcatstaffclub.in/
DTSTAMP:20260424T225122Z
DESCRIPTION:Dear colleagues\nA cycling marathon is being organized in Indor
 e on Saturday\, 5th May\, 2018 at Super Corridor. Entry may be taken in tw
 o categories\, 50 km &amp\; 100 km The registration fees is Rs 200/- which
  includes timing chip\, finisher’s medal\, E-certificate on completion and
  unlimited refreshments on the way followed by dinner\nThe details of this
  event are as follows:\nDay/Date : Saturday\, 5th May\, 2018Time : 8 PM to
  3 AMVenue : Super Corridor\, INDOREName : 'CYCLE KI MARATHON'\nEVENT CONC
 EPT\n* Long Distance Cycling of 50 and 100 KM for Beginners* Timed Ride (w
 ith Chip)* Online Certificate to every participant* Participation Medal to
  every rider* Night Ride\, with proper light and security on the track* Un
 limited Refreshment and Entertainment during the ride* Core Thought - To e
 ncourage Girls\, Ladies and beginners to try long distance cycling* A fami
 ly get together\, a sporting carnival* Not a race\, every rider is a winne
 r* Minimal Registration Fee of Rs.200/- only including GST.\nFor participa
 tion and more details regarding the event kindly contact Sh Vijay Bhawsar\
 ,SSLES/LED at 2315\, 94253-30011.Email : vijay@rrcat.gov.inIf there are su
 fficient number of participants\, the organisers may be invited to RRCAT c
 ampus for offline group registrations.\nwith best regards\n--R K NathwaniS
 ecretary\, RRCAT Staff Club https://rrcatstaffclub.in/events/rrcat/event/1
 03-cycling-marathon-in-indore
DTSTART:20180505T023000Z
DTEND:20180505T093000Z
LOCATION:Super Corridor\, Indore (Super Corridor Rd\, Indore\, Madhya Prade
 sh 452006\, India)
SUMMARY:Cycling Marathon in Indore
URL:https://rrcatstaffclub.in/events/rrcat/event/103-cycling-marathon-in-in
 dore
END:VEVENT
END:VCALENDAR
