BEGIN:VCALENDAR
VERSION:2.0
PRODID:-//https://rrcatstaffclub.in///NONSGML kigkonsult.se iCalcreator 2.10.15//
METHOD:PUBLISH
BEGIN:VEVENT
UID:20260424T211345UTC-0853DHZcwP@https://rrcatstaffclub.in/
DTSTAMP:20260424T211345Z
DESCRIPTION:Dear All\,'The Science Discovery Club will be screening the 11t
 h episode of Carl Sagan's COSMOS: 'The Persistence of Memory' on April 13\
 , 2018 in the Homi Sethna Hall\, Convention Centre\, from 7 to 8 PM. All m
 embers of the Staff Club are invited to the screening'\nWith best regards\
 ,\nA S JoshiPresident\, RRCAT Staff Club https://rrcatstaffclub.in/events/
 rrcat/event/104-science-movie-night
DTSTART:20180413T133000Z
DTEND:20180413T143000Z
LOCATION:Homi Sethna Hall\, RRCAT Convention Center (Unnamed Road\, RRCAT\,
  Indore\, Madhya Pradesh 452013\, India)
SUMMARY:Science Movie Night
URL:https://rrcatstaffclub.in/events/rrcat/event/104-science-movie-night
END:VEVENT
END:VCALENDAR
