BEGIN:VCALENDAR
VERSION:2.0
PRODID:-//https://rrcatstaffclub.in///NONSGML kigkonsult.se iCalcreator 2.10.15//
METHOD:PUBLISH
BEGIN:VEVENT
UID:20260424T212134UTC-8399TJvuvv@https://rrcatstaffclub.in/
DTSTAMP:20260424T212134Z
DESCRIPTION:Dear all\nPlease find attached herewith notice regarding Annual
  Tennis Ball League Cricket Tournament 2017-18. The tournament is ikely to
  begin from 29-10-2017.\nRegards\,\nR.K.ChoudhryConvener\,Cricket  https:/
 /rrcatstaffclub.in/events/rrcat/event/11-annual-tennis-ball-league-cricket
 -tournament-2017-18
DTSTART;VALUE=DATE:20171029
LOCATION:AECS School Playground (Unnamed Road\, RRCAT\, Indore\, Madhya Pra
 desh 452013\, India)
SUMMARY:Annual Tennis Ball League Cricket Tournament 2017-18
URL:https://rrcatstaffclub.in/events/rrcat/event/11-annual-tennis-ball-leag
 ue-cricket-tournament-2017-18
END:VEVENT
END:VCALENDAR
