BEGIN:VCALENDAR
VERSION:2.0
PRODID:-//https://rrcatstaffclub.in///NONSGML kigkonsult.se iCalcreator 2.10.15//
METHOD:PUBLISH
BEGIN:VEVENT
UID:20260424T211350UTC-4167MVJ3aH@https://rrcatstaffclub.in/
DTSTAMP:20260424T211350Z
DESCRIPTION:Dear All\nAs discussed in the meeting held on February 23\, 201
 8 the Colour Belt Promotion Exam will be held at MPS Gym Hall\, RRCAT Colo
 ny in the evening session on May 1\, 2018.&nbsp\;\nUday Sule&nbsp\;Convene
 r\, Martial Arts/Aerobics\n\nUpdate:\nColor Belt promotion exam for Taekwo
 ndo activity at MPS gym hall was successfully conducted for RRCAT employee
 s wards under RRCAT staff club on 1st-May-2018. Total no. of candidates ap
 pear for belt exam are 38. The photographs of this event are attached belo
 w. This is the very first event conducted at RRCAT colony for Taekwondo ac
 tivity. Two examiners(authorized by MP district taekwondo association) wer
 e called for conducting the exam.\n\n{oziogallery 627}&nbsp\; https://rrca
 tstaffclub.in/events/rrcat/event/113-colour-belt-promotion-exam
DTSTART;VALUE=DATE:20180501
LOCATION:MPS Gym Hall - RRCAT Colony (Unnamed Road\, RRCAT\, Indore\, Madhy
 a Pradesh 452013\, India)
SUMMARY:Colour Belt Promotion Exam
URL:https://rrcatstaffclub.in/events/rrcat/event/113-colour-belt-promotion-
 exam
END:VEVENT
END:VCALENDAR
