BEGIN:VCALENDAR
VERSION:2.0
PRODID:-//https://rrcatstaffclub.in///NONSGML kigkonsult.se iCalcreator 2.10.15//
METHOD:PUBLISH
BEGIN:VEVENT
UID:20260424T212127UTC-3159DuaeoG@https://rrcatstaffclub.in/
DTSTAMP:20260424T212127Z
DESCRIPTION:Dear All\nThe 2nd Late Shri. Narinder Singh Rajput Memorial Ope
 n National Taekwondo Championship-2018 will be held at&nbsp\;Tyagraj Indoo
 r Stadium\, INA Market\, New Delhi\, India on May 5\, 2018.\nPlease contac
 t the following for the registrations.\n\n\n\nTanoop&nbsp\;\n&nbsp\;813010
 9107\n\n\n&nbsp\;Sonia\n&nbsp\;9540265263\n\n\n&nbsp\;Sanjay\n&nbsp\;87002
 03796\n\n\n&nbsp\;Ashok\n&nbsp\;9266358304\n\n\n\n&nbsp\;Note: Last date o
 f entry - May 3\, 2018\nwith best regards\nUday Sule&nbsp\;Convener\, Mart
 ial Arts/Aerobics\n https://rrcatstaffclub.in/events/rrcat/event/115-2nd-l
 ate-shri-narinder-singh-rajput-memorial-open-national-taekwondo-championsh
 ip-2018
DTSTART;VALUE=DATE:20180505
LOCATION:Tyagraj Sports Complex\, New Delhi (Laxmi Bai Nagar\, New Delhi\, 
 Delhi 110023\, India)
SUMMARY:2nd Late Shri. Narinder Singh Rajput Memorial Open National Taekwon
 do Championship-2018
URL:https://rrcatstaffclub.in/events/rrcat/event/115-2nd-late-shri-narinder
 -singh-rajput-memorial-open-national-taekwondo-championship-2018
END:VEVENT
END:VCALENDAR
