BEGIN:VCALENDAR
VERSION:2.0
PRODID:-//https://rrcatstaffclub.in///NONSGML kigkonsult.se iCalcreator 2.10.15//
METHOD:PUBLISH
BEGIN:VEVENT
UID:20260424T191511UTC-3259hlUIWX@https://rrcatstaffclub.in/
DTSTAMP:20260424T191511Z
DESCRIPTION:Dear Colleagues\,\nNature and Adventure Circle\, RRCAT Staff Cl
 ub\, announces a one-day trekking prog ram withnight stay at Kalakund-Kush
 algarh region near Mhow on Saturday\, 28th April\, 2018\nThe details of th
 e trekking program is attached.Enrollment is online at the link given blow
 .\n--Event Completed--\nFor any query regarding the program and enrolment\
 , kindly contact the undersigned.\nWith best wishes &amp\; regards\,\nRaje
 sh ShirsatConvener\,Nature &amp\; Adventure Circle (NAC)RRCAT Staff Club\,
  IndoreTel. 8932/8605Mob: 89896-00083 https://rrcatstaffclub.in/events/rrc
 at/event/116-trekking-at-kalakund-kushalgarh
DTSTART:20180428T063000Z
DTEND:20180429T043000Z
LOCATION:Kalakund\, Kushalgarh (Kushalgarh\, Madhya Pradesh 453441\, India)
SUMMARY:Trekking at Kalakund-Kushalgarh
URL:https://rrcatstaffclub.in/events/rrcat/event/116-trekking-at-kalakund-k
 ushalgarh
END:VEVENT
END:VCALENDAR
