BEGIN:VCALENDAR
VERSION:2.0
PRODID:-//https://rrcatstaffclub.in///NONSGML kigkonsult.se iCalcreator 2.10.15//
METHOD:PUBLISH
BEGIN:VEVENT
UID:20260424T211216UTC-3437Es5fBV@https://rrcatstaffclub.in/
DTSTAMP:20260424T211216Z
DESCRIPTION:Dear All\,\n\n\n\n\n\n\n\n\n\n\n\n\n\n'The Science Discovery Cl
 ub will be screening the 12th episode of Carl Sagan's COSMOS: 'Encyclopaed
 ia Galactica' on April 20\, 2018 in the Homi Sethna Hall\, Convention Cent
 re\, from 7 to 8 PM. All members of the Staff Club are invited to the scre
 ening'\n&nbsp\;\nWith best regards\,\nA S JoshiPresident\, RRCAT Staff Clu
 b\n\n\n\n\n\n\n\n\n\n\n\n\n https://rrcatstaffclub.in/events/rrcat/event/1
 17-science-movie-night
DTSTART:20180420T133000Z
DTEND:20180420T143000Z
LOCATION:Homi Sethna Hall\, RRCAT Convention Center (Unnamed Road\, RRCAT\,
  Indore\, Madhya Pradesh 452013\, India)
SUMMARY:Science Movie Night
URL:https://rrcatstaffclub.in/events/rrcat/event/117-science-movie-night
END:VEVENT
END:VCALENDAR
