BEGIN:VCALENDAR
VERSION:2.0
PRODID:-//https://rrcatstaffclub.in///NONSGML kigkonsult.se iCalcreator 2.10.15//
METHOD:PUBLISH
BEGIN:VEVENT
UID:20260424T190635UTC-3931Aiumcr@https://rrcatstaffclub.in/
DTSTAMP:20260424T190635Z
DESCRIPTION:Dear Colleagues\,\nAnnouncement\, Enrollment form\, brochure an
 d map of the 29th All India DAE Trekking Expedition (Girisanchar-29) is at
 tached.\nFollowing are some important points &amp\; dates:\nRegion: Kaiga 
 Township - Shirve Gudda – Malagadde – Haroor – Kalache - Shivpur- Ulavi re
 gion in Uttar Kannada district of the Karnataka State\nTrekking dates: 23-
 01-2018 to 05-02-2018 (total 8 batches)Enrollment starts from 16-October-2
 017Last date of acceptance of forms: 27-October-2017\nInterested persons a
 re requested to enroll for the trek.For any queries regarding the expediti
 on please contact undersigned.\nWith best wishes\,\nRajesh ShirsatConvener
 \, Nature &amp\; Adventure CircleRRCAT Staff Club https://rrcatstaffclub.i
 n/events/rrcat/event/12-girisanchar-29
DTSTART:20180122T183000Z
DTEND:20180205T181724Z
LOCATION:Sirve Gudda\, Karnataka (Kaiga Twp - Shirve Gudda Rd\, Shirve\, Ka
 rnataka 581400\, India)
SUMMARY:Girisanchar 29
URL:https://rrcatstaffclub.in/events/rrcat/event/12-girisanchar-29
END:VEVENT
END:VCALENDAR
