BEGIN:VCALENDAR
VERSION:2.0
PRODID:-//https://rrcatstaffclub.in///NONSGML kigkonsult.se iCalcreator 2.10.15//
METHOD:PUBLISH
BEGIN:VEVENT
UID:20260424T224633UTC-1256pUCN8V@https://rrcatstaffclub.in/
DTSTAMP:20260424T224633Z
DESCRIPTION:Dear Colleagues\,\nRRCAT Staff Club announces Summer Camp 2018 
 for the wards of RRCAT staff. The camp will be for 5 weeks\, from May 7 to
  June 10\, 2018.&nbsp\;\nMore details is available below.&nbsp\;\n&nbsp\;
 \n\n\n\nParticipation\nChildren of RRCAT Staff Club membersAge Limit:&nbsp
 \;4 to 16 Years for Karate &amp\; Drawing&nbsp\;8 to 16 Years for other ac
 tivities\n\n\nCamp duration\nMay 7 to June 10\, 2018 (5 weeks)\n\n\nHow to
  Enroll\nClick here for Enrollment Instructions\n\n\nLast date of enrollme
 nt\nFriday\, April 27\, 2018 (Friday\, May 4\, 2018 with&nbsp\;₹ 50/- late
  fee)\n\n\nClosing Ceremony\nSunday\, June 10\, 2018\n\n\n\n\n\nActivities
 \n\n\n\nSr.\nActivity\nVenue\nTime\n\n\n1\nKho-Kho (Outdoor)\nKho-Kho grou
 nd\n5:30 to 7:30 AM\n\n\n2\nBasketball (Outdoor)\nBasketball court\, AECS
 \n7:30 to 9:30 AM\n\n\n3\nBadminton (Indoor)\nYoga/Badminton Building\n3:3
 0 to 5:30 PM\n\n\n4\nDrawing (Indoor)\nYoga/Badminton Building\n4:00 to 7:
 00 PM\n\n\n5\nKarate/Taekwondo(Indoor)\nMPS\, Gym hall\n4:30 to 6:30 PM\n
 \n\n6\nLawn Tennis (Outdoor)\nTennis courts 1 &amp\; 2\n5:30 to 8:00 PM\n
 \n\n7\nVolley ball (Outdoor)\nVolley ball ground\n6:30 to 8:00 PM\n\n\n\n&
 nbsp\;\n\nFees\n\n\n\n1 activity\n₹ 400\n\n\n2 activities\n₹&nbsp\;500\n\n
 \n3 activities\n₹&nbsp\;600\n\n\nNote : A child can participate in maximum
  3 activities\n\n\n\n&nbsp\;\nNotes:\n\nA child can participate in maximum
  3 activities.&nbsp\;\nKindly rake a receipt for payment of fees from the 
 staff Club supervisor as a proof of registration.\nThis summer camp is exc
 lusively for children of staff club members. Those who are not RRCAT staff
  club members at present and would like to enrol their children can become
  the member by filling up the RRCAT Staff Club Membership Form&nbsp\;avail
 able on staff club website.&nbsp\;\nGoverning Council of RRCAT Staff Club\
 , reserves the right to make changes in the summer camp as deemed fit in t
 he larger interest of the members.&nbsp\;&nbsp\;\nThe children attending r
 egular coaching of Lawn Tennis and Karate may also register for the camp. 
 Such children need not pay coaching fee for the month of May\, 2018.&nbsp\
 ;\nIf we do not get sufficient number of enrollments for an activity\, the
  activity may be cancelled and fee shall be refunded.&nbsp\;\n\n&nbsp\;\nE
 nrollment Instructions\n\nClick here to apply online (login required).&nbs
 p\;\nYou will get a link to download the pdf copy of the application once 
 you submit the form. You will also receive an email containing the pdf app
 lication. You can also view your submission and download the pdf applicati
 on from the website here.&nbsp\;&nbsp\;\nSubmit duly signed hardcopy of th
 e pdf application with applicable fees to the RRCAT Staff Club Office at W
 elfare Centre (Tel. 7068) during 6:00 to 8:00 PM on all days.\nFill sapera
 te forms for each child.&nbsp\;\nPlease contact&nbsp\;admin@rrcatstaffclub
 .com&nbsp\;for any change/correction of the data in your application.&nbsp
 \;\n\nWith best regards\,\nRakesh NathwaniSecretary\, RRCAT Staff Club htt
 ps://rrcatstaffclub.in/events/rrcat/event/123-summer-camp-2018
DTSTART:20180506T183000Z
DTEND:20180610T182700Z
LOCATION:RRCAT Colony (RRCAT\, Indore\, Madhya Pradesh\, India)
SUMMARY:Summer Camp 2018
URL:https://rrcatstaffclub.in/events/rrcat/event/123-summer-camp-2018
END:VEVENT
END:VCALENDAR
