BEGIN:VCALENDAR
VERSION:2.0
PRODID:-//https://rrcatstaffclub.in///NONSGML kigkonsult.se iCalcreator 2.10.15//
METHOD:PUBLISH
BEGIN:VEVENT
UID:20260424T205900UTC-0392AZguxS@https://rrcatstaffclub.in/
DTSTAMP:20260424T205900Z
DESCRIPTION:Dear colleagues\,\nRRCAT staff club is happy to announce a talk
  on “Leadership Insights from Vedic Scriptures” as per the details given b
 elow.\n&nbsp\;\nDay/Date : Wednesday\, 25.04.2017Venue : Vikram Sarabhai H
 all\, RRCAT Convention CentreTime : 18:15 hrsSpeaker : Dr. Akhaya Kumar Na
 yak\, IIM\, Indore\nKindly see the attached documents for more details reg
 arding the talk.\nAll RRCAT staff and interested family members are reques
 ted to attend the talk and may get benefited.\n&nbsp\;\nwith best regardsR
 akesh NathwaniSecretary\, RRCAT Staff Club https://rrcatstaffclub.in/event
 s/rrcat/event/128-talk-on-leadership-development
DTSTART:20180425T124500Z
DTEND:20180425T134500Z
LOCATION:Vikram Sarabhai Hall\, RRCAT Convention Centre (Unnamed Road\, RRC
 AT\, Indore\, Madhya Pradesh 452013\, India)
SUMMARY:Talk on Leadership development
URL:https://rrcatstaffclub.in/events/rrcat/event/128-talk-on-leadership-dev
 elopment
END:VEVENT
END:VCALENDAR
