BEGIN:VCALENDAR
VERSION:2.0
PRODID:-//https://rrcatstaffclub.in///NONSGML kigkonsult.se iCalcreator 2.10.15//
METHOD:PUBLISH
BEGIN:VEVENT
UID:20260424T230953UTC-9477PIRJce@https://rrcatstaffclub.in/
DTSTAMP:20260424T230953Z
DESCRIPTION:Dear All\,\nThe Science Discovery Club has finished screening o
 f 13 episodes of the series 'Cosmos: A Personal Voyage' last week. From th
 is week we are going to start a nee documentary series 'Wonders of Life' c
 onsists of 5 episodes presented by physicist Brian Cox. The series was pro
 duced by the BBC and Chinese state television network CCTV-9 and aired in 
 the United Kingdom in 2013. The first episode 'What is Life ?' will be scr
 eened on May 4\, 2018 in the Homi Sethna Hall\, Convention Centre\, from 7
  to 8 PM. All are invited to the screening.\n\nWith best regards\,\nA. S. 
 JoshiPresident\, RRCAT Staff Club https://rrcatstaffclub.in/events/rrcat/e
 vent/129-science-movie-night
DTSTART:20180504T133000Z
DTEND:20180504T143000Z
LOCATION:Homi Sethna Hall\, RRCAT Convention Center (Unnamed Road\, RRCAT\,
  Indore\, Madhya Pradesh 452013\, India)
SUMMARY:Science Movie Night
URL:https://rrcatstaffclub.in/events/rrcat/event/129-science-movie-night
END:VEVENT
END:VCALENDAR
