BEGIN:VCALENDAR
VERSION:2.0
PRODID:-//https://rrcatstaffclub.in///NONSGML kigkonsult.se iCalcreator 2.10.15//
METHOD:PUBLISH
BEGIN:VEVENT
UID:20260424T211216UTC-76675N1nKW@https://rrcatstaffclub.in/
DTSTAMP:20260424T211216Z
DESCRIPTION:Dear All\,\nThe Science Discovery Club will be screening the se
 cond episode “Expanding Universe” of the series “Wonders of Life” on May 1
 1\, 2018 in the Homi Sethna Hall\, Convention Centre\, from 7 to 8 PM. All
  are invited to the screening.\n\nWith best regards\,\nA. S. JoshiPresiden
 t\, RRCAT Staff Club https://rrcatstaffclub.in/events/rrcat/event/130-scie
 nce-movie-night
DTSTART:20180511T133000Z
DTEND:20180511T143000Z
LOCATION:Homi Sethna Hall\, RRCAT Convention Center (Unnamed Road\, RRCAT\,
  Indore\, Madhya Pradesh 452013\, India)
SUMMARY:Science Movie Night
URL:https://rrcatstaffclub.in/events/rrcat/event/130-science-movie-night
END:VEVENT
END:VCALENDAR
