BEGIN:VCALENDAR
VERSION:2.0
PRODID:-//https://rrcatstaffclub.in///NONSGML kigkonsult.se iCalcreator 2.10.15//
METHOD:PUBLISH
BEGIN:VEVENT
UID:20260424T231527UTC-1803czv1em@https://rrcatstaffclub.in/
DTSTAMP:20260424T231527Z
DESCRIPTION:Dear All\nMay 16 has been named as “International Dat of Light”
  by UNESCO. To celebrate the day of light\, Science Discovery Club is orga
 nizing various events at RRCAT Colony. Please find attached pdf for more d
 etails regarding the events and participation.&nbsp\;\n\nwith best regards
 A. S. JoshiPresident\, RRCAT Staff Club\n\n\nMorning Session\nAfternoon Se
 ssion\nNight Session\n\n\nClick below to know more about the day !\nhttps:
 //www.lightday.org\n\n&nbsp\;{oziogallery 570} https://rrcatstaffclub.in/e
 vents/rrcat/event/131-international-day-of-light
DTSTART;VALUE=DATE:20180516
LOCATION:RRCAT Colony (RRCAT\, Indore\, Madhya Pradesh\, India)
SUMMARY:International Day of Light
URL:https://rrcatstaffclub.in/events/rrcat/event/131-international-day-of-l
 ight
END:VEVENT
END:VCALENDAR
