BEGIN:VCALENDAR
VERSION:2.0
PRODID:-//https://rrcatstaffclub.in///NONSGML kigkonsult.se iCalcreator 2.10.15//
METHOD:PUBLISH
BEGIN:VEVENT
UID:20260424T212113UTC-7826sScnLu@https://rrcatstaffclub.in/
DTSTAMP:20260424T212113Z
DESCRIPTION:The following activities are scheduled for this session.&nbsp\;
 \n\nScience Posters Display\nBasic Physics Exhibits\nHands on Experiments 
 Competition for AECS School students\n\nAl the students of class 8 to 12 a
 re invited to register for experiments by sending an email to sendhilrajas
 @gmail.com or neerajbamania@hotmail.com. The competition will be held in t
 eams of four. The top four teams from the experiments round get to partici
 pate in science quiz.&nbsp\;\n\n\nMorning Session\nAfternoon Session\nNigh
 t Session\n https://rrcatstaffclub.in/events/rrcat/event/133-morning-sessi
 on-international-day-of-light
DTSTART:20180516T043000Z
DTEND:20180516T073000Z
LOCATION:Homi Bhabha Auditorium\, RRCAT Convention Center (Unnamed Road\, R
 RCAT\, Indore\, Madhya Pradesh 452013\, India)
SUMMARY:Morning Session - International Day of Light
URL:https://rrcatstaffclub.in/events/rrcat/event/133-morning-session-intern
 ational-day-of-light
END:VEVENT
END:VCALENDAR
