BEGIN:VCALENDAR
VERSION:2.0
PRODID:-//https://rrcatstaffclub.in///NONSGML kigkonsult.se iCalcreator 2.10.15//
METHOD:PUBLISH
BEGIN:VEVENT
UID:20260424T211954UTC-6835lhr9Ut@https://rrcatstaffclub.in/
DTSTAMP:20260424T211954Z
DESCRIPTION:The following activities are scheduled for this session.&nbsp\;
 \n\nScience Quiz\nScreening of Science Movies\n\n\n\nMorning Session\nAfte
 rnoon Session\nNight Session\n https://rrcatstaffclub.in/events/rrcat/even
 t/134-afternoon-session-international-day-of-light
DTSTART:20180516T090000Z
DTEND:20180516T120000Z
LOCATION:Homi Sethna Hall\, RRCAT Convention Center (Unnamed Road\, RRCAT\,
  Indore\, Madhya Pradesh 452013\, India)
SUMMARY:Afternoon Session - International Day of Light
URL:https://rrcatstaffclub.in/events/rrcat/event/134-afternoon-session-inte
 rnational-day-of-light
END:VEVENT
END:VCALENDAR
