BEGIN:VCALENDAR
VERSION:2.0
PRODID:-//https://rrcatstaffclub.in///NONSGML kigkonsult.se iCalcreator 2.10.15//
METHOD:PUBLISH
BEGIN:VEVENT
UID:20260424T211910UTC-2567XHuu6X@https://rrcatstaffclub.in/
DTSTAMP:20260424T211910Z
DESCRIPTION:The following activities are scheduled for this session.&nbsp\;
 \n\nSky Watching\n\n\n\nMorning Session\nAfternoon Session\nNight Session
 \n https://rrcatstaffclub.in/events/rrcat/event/135-night-session-internat
 ional-day-of-light
DTSTART:20180516T160000Z
DTEND:20180516T170000Z
LOCATION:AECS School Playground (Unnamed Road\, RRCAT\, Indore\, Madhya Pra
 desh 452013\, India)
SUMMARY:Night Session - International Day of Light
URL:https://rrcatstaffclub.in/events/rrcat/event/135-night-session-internat
 ional-day-of-light
END:VEVENT
END:VCALENDAR
