BEGIN:VCALENDAR
VERSION:2.0
PRODID:-//https://rrcatstaffclub.in///NONSGML kigkonsult.se iCalcreator 2.10.15//
METHOD:PUBLISH
BEGIN:VEVENT
UID:20260424T211911UTC-2451vgz8UX@https://rrcatstaffclub.in/
DTSTAMP:20260424T211911Z
DESCRIPTION:Dear Colleagues\,\nRRCAT Staff Club is organsing Open knock-out
  cricket tournament from 19th May\, 2018.&nbsp\;\nFor participation\, guid
 elines and other details kindly see the attached document.&nbsp\;\n&nbsp\;
 \nwith best regards\nSecretaryRRCAT Staff Club https://rrcatstaffclub.in/e
 vents/rrcat/event/136-open-knock-out-cricket-tournament-2018
DTSTART;VALUE=DATE:20180519
LOCATION:AECS School Playground (Unnamed Road\, RRCAT\, Indore\, Madhya Pra
 desh 452013\, India)
SUMMARY:Open Knock-out Cricket Tournament 2018
URL:https://rrcatstaffclub.in/events/rrcat/event/136-open-knock-out-cricket
 -tournament-2018
END:VEVENT
END:VCALENDAR
