BEGIN:VCALENDAR
VERSION:2.0
PRODID:-//https://rrcatstaffclub.in///NONSGML kigkonsult.se iCalcreator 2.10.15//
METHOD:PUBLISH
BEGIN:VEVENT
UID:20260424T225121UTC-3137WAmrit@https://rrcatstaffclub.in/
DTSTAMP:20260424T225121Z
DESCRIPTION:Dear Colleagues\,\nYoga Circle\, RRCAT Staff Club is organising
  a 3 week meditation Camp\, starting from Wednesday\, 23.05.2018\, for the
  benefit of RRCAT employees and their family members.\nFor participation a
 nd other details kindly see the attached document.\nwith best regards\nSec
 retaryRRCAT Staff Club\n&nbsp\; https://rrcatstaffclub.in/events/rrcat/eve
 nt/139-meditation-yog-nidra-camp
DTSTART:20180522T183000Z
DTEND:20180609T183001Z
LOCATION:Yoga Center (Unnamed Road\, RRCAT\, Indore\, Madhya Pradesh 452013
 \, India)
SUMMARY:Meditation (Yog Nidra) Camp
URL:https://rrcatstaffclub.in/events/rrcat/event/139-meditation-yog-nidra-c
 amp
END:VEVENT
END:VCALENDAR
