BEGIN:VCALENDAR
VERSION:2.0
PRODID:-//https://rrcatstaffclub.in///NONSGML kigkonsult.se iCalcreator 2.10.15//
METHOD:PUBLISH
BEGIN:VEVENT
UID:20260424T223912UTC-4995RVpOcV@https://rrcatstaffclub.in/
DTSTAMP:20260424T223912Z
DESCRIPTION:Dear Colleagues\,\nEncouraged with the success of sky watch act
 ivity\, RRCAT Staff Club is organising telescope making classes from Sunda
 y\, May\, 14\, 2017. These classes shall be taken by Dr Sendhil Raja. To m
 ake this program more effective and useful\, we want to limit the number o
 f participants. So this programme is mainly targeted at students of class 
 11 and above including college students.\nThe details of the program are a
 s below:\nDay/date : Every Sunday starting May 14 to June 11\, 2017No of s
 essions : 5 (every Sunday)Venue : Community center inside lawnsTime : 8:30
  AM to 11:30 AMParticipation : FreeWho should attend : Students of class 1
 1 and above including college students.&nbsp\;\nActivity :The activity wil
 l involve grinding and polishing of a 6' primary mirror byhand and assembl
 ing a Newtonian telescope using it. Along with the handson classes a brief
  introduction to various types of telescopes will alsobe provided.\n&nbsp\
 ;\nwith best regardsScience Discovery ClubRRCAT Staff Club&nbsp\;\n&nbsp\;
  https://rrcatstaffclub.in/events/rrcat/event/16-telescope-making-classes
DTSTART:20170604T030000Z
DTEND:20170604T060000Z
LOCATION:Welfare Center - RRCAT Colony (Unnamed Road\, RRCAT\, Indore\, Mad
 hya Pradesh 452013\, India)
SUMMARY:Telescope Making Classes
URL:https://rrcatstaffclub.in/events/rrcat/event/16-telescope-making-classe
 s
END:VEVENT
END:VCALENDAR
