BEGIN:VCALENDAR
VERSION:2.0
PRODID:-//https://rrcatstaffclub.in///NONSGML kigkonsult.se iCalcreator 2.10.15//
METHOD:PUBLISH
BEGIN:VEVENT
UID:20260424T231011UTC-34803u6twk@https://rrcatstaffclub.in/
DTSTAMP:20260424T231011Z
DESCRIPTION:Dear All\,\nThe Science Discovery Club will be screening the fo
 urth episode “Size Matters” of the series “Wonders of Life” on May 25\, 20
 18 in the Homi Sethna Hall\, Convention Centre\, from 7 to 8 PM. All are i
 nvited to the screening.\n\nWith best regards\,\nA. S. JoshiPresident\, RR
 CAT Staff Club\n https://rrcatstaffclub.in/events/rrcat/event/160-science-
 movie-night
DTSTART:20180525T133000Z
DTEND:20180525T143000Z
LOCATION:Homi Sethna Hall\, RRCAT Convention Center (Unnamed Road\, RRCAT\,
  Indore\, Madhya Pradesh 452013\, India)
SUMMARY:Science Movie Night
URL:https://rrcatstaffclub.in/events/rrcat/event/160-science-movie-night
END:VEVENT
END:VCALENDAR
