BEGIN:VCALENDAR
VERSION:2.0
PRODID:-//https://rrcatstaffclub.in///NONSGML kigkonsult.se iCalcreator 2.10.15//
METHOD:PUBLISH
BEGIN:VEVENT
UID:20260424T210106UTC-4054DX5L8b@https://rrcatstaffclub.in/
DTSTAMP:20260424T210106Z
DESCRIPTION:Dear Colleagues\,\nYoga Circle\, RRCAT Staff Club is happy to a
 nnounce a 2 week Pranayam Camp for the benefit of RRCAT employees and thei
 r family members. The camp will start from Monday\, 28.05.2018\nFor partic
 ipation and other details kindly see the attached document.\nwith best reg
 ards\nSecretaryRRCAT Staff Club with best regards https://rrcatstaffclub.i
 n/events/rrcat/event/163-pranayam-camp
DTSTART;VALUE=DATE:20180528
LOCATION:Yoga Center (Unnamed Road\, RRCAT\, Indore\, Madhya Pradesh 452013
 \, India)
SUMMARY:Pranayam Camp
URL:https://rrcatstaffclub.in/events/rrcat/event/163-pranayam-camp
END:VEVENT
END:VCALENDAR
