BEGIN:VCALENDAR
VERSION:2.0
PRODID:-//https://rrcatstaffclub.in///NONSGML kigkonsult.se iCalcreator 2.10.15//
METHOD:PUBLISH
BEGIN:VEVENT
UID:20260424T211206UTC-1906UMjmhd@https://rrcatstaffclub.in/
DTSTAMP:20260424T211206Z
DESCRIPTION:Dear All\,\nThe Science Discovery Club will be screening the fi
 fth episode “Size Matters” of the series “Wonders of Life” on June 1\, 201
 8 in the Homi Sethna Hall\, Convention Centre\, from 7 to 8 PM. All are in
 vited to the screening.\n\nWith best regards\,\nA. S. JoshiPresident\, RRC
 AT Staff Club\n https://rrcatstaffclub.in/events/rrcat/event/164-science-m
 ovie-night
DTSTART:20180601T133000Z
DTEND:20180601T143000Z
LOCATION:Homi Sethna Hall\, RRCAT Convention Center (Unnamed Road\, RRCAT\,
  Indore\, Madhya Pradesh 452013\, India)
SUMMARY:Science Movie Night
URL:https://rrcatstaffclub.in/events/rrcat/event/164-science-movie-night
END:VEVENT
END:VCALENDAR
