BEGIN:VCALENDAR
VERSION:2.0
PRODID:-//https://rrcatstaffclub.in///NONSGML kigkonsult.se iCalcreator 2.10.15//
METHOD:PUBLISH
BEGIN:VEVENT
UID:20260424T211207UTC-8855a9zKK2@https://rrcatstaffclub.in/
DTSTAMP:20260424T211207Z
DESCRIPTION:Dear All\,\nThe five-episode series 'Wonders of Life' came to a
 n end with the screening of the final episode last week. This week we star
 t a new series called 'Life' by David Attenborough a BBC and Open Universi
 ty Production. The Science Discovery Club will be screening the first epis
 ode of episode of 'Life' series 'Challenges of Life' on June 8\, 2018 in t
 he Vikram Sarabhai Hall\, Convention Centre\, from 7 to 8 PM. All members 
 of the Staff Club are invited to the screening.\nwith best regards\nSendhi
 l\n https://rrcatstaffclub.in/events/rrcat/event/165-science-movie-night
DTSTART:20180608T133000Z
DTEND:20180608T143000Z
LOCATION:Vikram Sarabhai Hall\, RRCAT Convention Centre (Unnamed Road\, RRC
 AT\, Indore\, Madhya Pradesh 452013\, India)
SUMMARY:Science Movie Night
URL:https://rrcatstaffclub.in/events/rrcat/event/165-science-movie-night
END:VEVENT
END:VCALENDAR
