BEGIN:VCALENDAR
VERSION:2.0
PRODID:-//https://rrcatstaffclub.in///NONSGML kigkonsult.se iCalcreator 2.10.15//
METHOD:PUBLISH
BEGIN:VEVENT
UID:20260424T211344UTC-0826X5VBZS@https://rrcatstaffclub.in/
DTSTAMP:20260424T211344Z
DESCRIPTION:Dear Colleagues\,\nThe closing ceremony of Summer Camp-2018\, o
 rganised by Staff club\, will be held as per following schedule:\nDay/date
  : Sunday\, June 10\, 2018Time : 5:30 PMVenue : Homi Bhabha Auditorium\, C
 onvention Centre\nSh Pradeep Kumar Kush\, Director\, Technology Developmen
 t and Support Group\, RRCAT\, has kindly agreed to be the Chief Guest for 
 this function. He will distribute certificates to more than 250 children w
 ho have attended this 5 week camp in 7 different sports activities.Prizes 
 shall be given to select good performers/winners.\nAll children who have a
 ttended this camp and their parents are cordially invited for this functio
 n.\nwith best regards\nSecretaryRRCAT Staff Club\n&nbsp\;\n{oziogallery 61
 9} https://rrcatstaffclub.in/events/rrcat/event/166-closing-ceremony-summe
 r-camp-2018
DTSTART:20180610T120000Z
DTEND:20180610T130000Z
LOCATION:Homi Bhabha Auditorium\, RRCAT Convention Center (Unnamed Road\, R
 RCAT\, Indore\, Madhya Pradesh 452013\, India)
SUMMARY:Closing Ceremony - Summer Camp 2018
URL:https://rrcatstaffclub.in/events/rrcat/event/166-closing-ceremony-summe
 r-camp-2018
END:VEVENT
END:VCALENDAR
