BEGIN:VCALENDAR
VERSION:2.0
PRODID:-//https://rrcatstaffclub.in///NONSGML kigkonsult.se iCalcreator 2.10.15//
METHOD:PUBLISH
BEGIN:VEVENT
UID:20260424T212004UTC-3369g7eOxs@https://rrcatstaffclub.in/
DTSTAMP:20260424T212004Z
DESCRIPTION:Dear Colleagues\,\nIt gives us a great pleasure to inform you a
 ll that the final match of Night Cricket Tournament 2018 will be played be
 tween the teams Blasters and Kalinga XI at 08:00 PM today i.e. Wednesday\,
  13.06.18 at RRCAT ground. The prize distribution ceremony will be held ju
 st after the match.\nAll are welcome to enjoy the thrill of the final matc
 h.\nwith best regards\nR.K.ChoudharyConvener\, Cricket https://rrcatstaffc
 lub.in/events/rrcat/event/168-final-match-of-night-cricket-tournament-2018
DTSTART:20180613T143000Z
DTEND:20180613T173000Z
LOCATION:AECS School Playground (Unnamed Road\, RRCAT\, Indore\, Madhya Pra
 desh 452013\, India)
SUMMARY:Final match of Night cricket Tournament 2018
URL:https://rrcatstaffclub.in/events/rrcat/event/168-final-match-of-night-c
 ricket-tournament-2018
END:VEVENT
END:VCALENDAR
