BEGIN:VCALENDAR
VERSION:2.0
PRODID:-//https://rrcatstaffclub.in///NONSGML kigkonsult.se iCalcreator 2.10.15//
METHOD:PUBLISH
BEGIN:VEVENT
UID:20260424T211206UTC-8870ERR962@https://rrcatstaffclub.in/
DTSTAMP:20260424T211206Z
DESCRIPTION:Dear All\,\nThe Science Discovery Club will be screening the se
 cond episode of 'Life' series 'Reptiles and Amphibians' on June 15\, 2018 
 in the Vikram Sarabhai Hall\, Convention Centre\, from 7 to 8 PM. All memb
 ers of the Staff Club are invited to the screening.\nwith best regardsSend
 hil https://rrcatstaffclub.in/events/rrcat/event/169-science-movie-night
DTSTART:20180615T133000Z
DTEND:20180615T143000Z
LOCATION:Vikram Sarabhai Hall\, RRCAT Convention Centre (Unnamed Road\, RRC
 AT\, Indore\, Madhya Pradesh 452013\, India)
SUMMARY:Science Movie Night
URL:https://rrcatstaffclub.in/events/rrcat/event/169-science-movie-night
END:VEVENT
END:VCALENDAR
